BEGIN:VCALENDAR
VERSION:2.0
PRODID:-//hacksw/handcal//NONSGML v1.0//EN
CALSCALE:GREGORIAN
BEGIN:VEVENT
DTEND:20260503T170000
UID:69eaa5eca321f
DTSTAMP:20260423T230620Z
LOCATION:15 West 16th St.\, New York\, NY 10011
DESCRIPTION:Lecture
URL;VALUE=URI:http://events.cjh.org/event/antisemitism-2026-05-03
SUMMARY:Antisemitism in the United States Today: Current Social Science Research – In-Person Program
DTSTART:20260503T083000
END:VEVENT
END:VCALENDAR