BEGIN:VCALENDAR
VERSION:2.0
PRODID:-//hacksw/handcal//NONSGML v1.0//EN
CALSCALE:GREGORIAN
BEGIN:VEVENT
DTEND:20260420T203000
UID:69e5b342bbf8e
DTSTAMP:20260420T050154Z
LOCATION:15 West 16th St.\, New York\, NY 10011
DESCRIPTION:Lecture
URL;VALUE=URI:http://events.cjh.org/event/translation-2026-04-20
SUMMARY:Songs of Translation: Bene Israel Performance from India to Israel - Live on Zoom
DTSTART:20260420T190000
END:VEVENT
END:VCALENDAR